BEGIN:VCALENDAR
VERSION:2.0
PRODID:-//Solutions For Independence - ECPv6.15.20//NONSGML v1.0//EN
CALSCALE:GREGORIAN
METHOD:PUBLISH
X-WR-CALNAME:Solutions For Independence
X-ORIGINAL-URL:https://sicilnc.org
X-WR-CALDESC:Events for Solutions For Independence
REFRESH-INTERVAL;VALUE=DURATION:PT1H
X-Robots-Tag:noindex
X-PUBLISHED-TTL:PT1H
BEGIN:VTIMEZONE
TZID:America/New_York
BEGIN:DAYLIGHT
TZOFFSETFROM:-0500
TZOFFSETTO:-0400
TZNAME:EDT
DTSTART:20240310T070000
END:DAYLIGHT
BEGIN:STANDARD
TZOFFSETFROM:-0400
TZOFFSETTO:-0500
TZNAME:EST
DTSTART:20241103T060000
END:STANDARD
BEGIN:DAYLIGHT
TZOFFSETFROM:-0500
TZOFFSETTO:-0400
TZNAME:EDT
DTSTART:20250309T070000
END:DAYLIGHT
BEGIN:STANDARD
TZOFFSETFROM:-0400
TZOFFSETTO:-0500
TZNAME:EST
DTSTART:20251102T060000
END:STANDARD
BEGIN:DAYLIGHT
TZOFFSETFROM:-0500
TZOFFSETTO:-0400
TZNAME:EDT
DTSTART:20260308T070000
END:DAYLIGHT
BEGIN:STANDARD
TZOFFSETFROM:-0400
TZOFFSETTO:-0500
TZNAME:EST
DTSTART:20261101T060000
END:STANDARD
END:VTIMEZONE
BEGIN:VEVENT
DTSTART;TZID=America/New_York:20250329T100000
DTEND;TZID=America/New_York:20250329T140000
DTSTAMP:20260422T061420
CREATED:20250107T204914Z
LAST-MODIFIED:20250107T204914Z
UID:3630-1743242400-1743256800@sicilnc.org
SUMMARY:2025 Adaptive Recreation & Active Living Expo
DESCRIPTION:SAVE THE DATE!  \nJoin us for the 2025 Adaptive Recreation & Active Living Expo sponsored by Solutions for Independence! \nCome try out all of your favorite adaptive recreation and sports with our awesome vendors\, including adaptive cycling\, tennis\, archery\, gaming\, and more! \nVendors will also be on-site so you can check out their resources and programs\, and ask questions! \nAll ages and ABILITIES are welcome!   \nRegister to attend Here:  https://bit.ly/SICIL2025   \nRegister to Volunteer Here: https://bit.ly/2025VOLUNTEER
URL:https://sicilnc.org/event/2025-adaptive-recreation-active-living-expo/
LOCATION:JDL Fast Track\, 2505 Empire Drive\, Winston Salem\, NC\, 27103\, United States
ATTACH;FMTTYPE=application/pdf:https://sicilnc.org/wp-content/uploads/2025/01/2025-Adaptive-Recreation-EXPO-1-1.pdf
ORGANIZER;CN="Solutions For Independence":MAILTO:info@sicilnc.org
END:VEVENT
END:VCALENDAR