BEGIN:VCALENDAR
VERSION:2.0
PRODID:-//Solutions For Independence - ECPv6.15.20//NONSGML v1.0//EN
CALSCALE:GREGORIAN
METHOD:PUBLISH
X-ORIGINAL-URL:https://sicilnc.org
X-WR-CALDESC:Events for Solutions For Independence
REFRESH-INTERVAL;VALUE=DURATION:PT1H
X-Robots-Tag:noindex
X-PUBLISHED-TTL:PT1H
BEGIN:VTIMEZONE
TZID:America/New_York
BEGIN:DAYLIGHT
TZOFFSETFROM:-0500
TZOFFSETTO:-0400
TZNAME:EDT
DTSTART:20230312T070000
END:DAYLIGHT
BEGIN:STANDARD
TZOFFSETFROM:-0400
TZOFFSETTO:-0500
TZNAME:EST
DTSTART:20231105T060000
END:STANDARD
BEGIN:DAYLIGHT
TZOFFSETFROM:-0500
TZOFFSETTO:-0400
TZNAME:EDT
DTSTART:20240310T070000
END:DAYLIGHT
BEGIN:STANDARD
TZOFFSETFROM:-0400
TZOFFSETTO:-0500
TZNAME:EST
DTSTART:20241103T060000
END:STANDARD
BEGIN:DAYLIGHT
TZOFFSETFROM:-0500
TZOFFSETTO:-0400
TZNAME:EDT
DTSTART:20250309T070000
END:DAYLIGHT
BEGIN:STANDARD
TZOFFSETFROM:-0400
TZOFFSETTO:-0500
TZNAME:EST
DTSTART:20251102T060000
END:STANDARD
END:VTIMEZONE
BEGIN:VEVENT
DTSTART;TZID=America/New_York:20241101T180000
DTEND;TZID=America/New_York:20241101T190000
DTSTAMP:20260422T061507
CREATED:20241001T150205Z
LAST-MODIFIED:20241001T150205Z
UID:3594-1730484000-1730487600@sicilnc.org
SUMMARY:Steak Dinner Veteran's Parade Kickoff - Winston-Salem
DESCRIPTION:The cost is $15.00 per steak cooked to order once you arrive and have paid.  The steak dinner includes salad\, potato and all of the fixings.\n\n**Please email Sandy directly if you will be attending the kickoff party and purchasing a steak at veteranscup2021@gmail.com\n \nIn the email to veteranscup2021@gmail.com for the kickoff party on November 01\, 2024 please state your full name telephone number\, confirm your email and HOW MANY steaks you will need to order.  \nYou will need to pay for those steaks once you arrive to the American Legion Post 55 the evening of the kickoff party\, November 01\, 2024.  
URL:https://sicilnc.org/event/steak-dinner-veterans-parade-kickoff-winston-salem/
LOCATION:American Legion Post 55\, 111 Miller Street\, Winston-Salem\, NC\, 27104\, United States
ATTACH;FMTTYPE=image/png:https://sicilnc.org/wp-content/uploads/2024/10/2024-Triad-Winston-Salem-Veterans-Day-Parade-flyer-1.png
ORGANIZER;CN="Veterans Cup":MAILTO:veteranscup2021@gmail.com
END:VEVENT
BEGIN:VEVENT
DTSTART;TZID=America/New_York:20241102T100000
DTEND;TZID=America/New_York:20241102T120000
DTSTAMP:20260422T061507
CREATED:20241001T150718Z
LAST-MODIFIED:20241001T165332Z
UID:3600-1730541600-1730548800@sicilnc.org
SUMMARY:Veteran's Parade - Winston-Salem
DESCRIPTION:If you\, your organization or group would like to participate in this year’s \nWinston Salem Triad VETERANS Parade; the parade committee is asking you to please register by contacting Alex Nelson in an email\, texting or calling him. Alucs38@yahoo.com \n336-681-1599    \nDEADLINE for registration will be OCTOBER 15\, 2024
URL:https://sicilnc.org/event/veterans-parade-winston-salem/
LOCATION:Downtown Winston Salem\, Winston-Salem\, NC\, 27104\, United States
ATTACH;FMTTYPE=image/png:https://sicilnc.org/wp-content/uploads/2024/10/2024-Triad-Winston-Salem-Veterans-Day-Parade-flyer-1.png
ORGANIZER;CN="Veterans Cup":MAILTO:veteranscup2021@gmail.com
END:VEVENT
BEGIN:VEVENT
DTSTART;TZID=America/New_York:20241107T160000
DTEND;TZID=America/New_York:20241107T173000
DTSTAMP:20260422T061507
CREATED:20240903T182205Z
LAST-MODIFIED:20240903T182205Z
UID:3548-1730995200-1731000600@sicilnc.org
SUMMARY:Veteran Archery Event
DESCRIPTION:Join Kernersville Parks & Recreation for a one day archery clinic.  Trained staff and all equipment will be provided. \nRegister at the link below: \nhttps://anc.apm.activecommunities.com/kvparks/activity/search/detail/1395?onlineSiteId=0&from_original_cui=true
URL:https://sicilnc.org/event/veteran-archery-event/
LOCATION:Kernersville Recreation Center\, 125 E Bodenhamer St\, Kernersville\, NC\, 27284\, United States
ATTACH;FMTTYPE=application/pdf:https://sicilnc.org/wp-content/uploads/2024/09/Veteran-Archey-flyer-2024.pdf
ORGANIZER;CN="Town of Kernersville Parks & Recreation":MAILTO:ecrisco@toknc.com
END:VEVENT
BEGIN:VEVENT
DTSTART;TZID=America/New_York:20241107T180000
DTEND;TZID=America/New_York:20241107T200000
DTSTAMP:20260422T061507
CREATED:20240924T193018Z
LAST-MODIFIED:20240924T193018Z
UID:3580-1731002400-1731009600@sicilnc.org
SUMMARY:Wheelchair Basketball at Hanes Hosiery Community Center
DESCRIPTION:Calling all Basketball Players!\nJoin the Triad Trackers Wheelchair Basketball Team\, Solutions For Independence & WS Recreation & Parks for Wheelchair Basketball!\nLearn basketball skills with the Triad Trackers Wheelchair Basketball Team while interacting with your peers with disabilities. Improve your basketball game while learning valuable life skills such as teamwork\, boosting your problem-solving skills\, and developing leadership skills.\nPractice will be every Thursdays  from 6 p.m. – 8 p.m.\nContact Chris Rivera at 743-264-0554 or email at chris@sicilnc.org for more information!
URL:https://sicilnc.org/event/wheelchair-basketball-at-hanes-hosiery-community-center-23/
LOCATION:Hanes Hosiery Community Center\, 501 Reynolds Blvd\, Winston-Salem\, North Carolina\, 27105\, United States
ATTACH;FMTTYPE=image/png:https://sicilnc.org/wp-content/uploads/2024/08/Red-Maroon-Basketball-Camp-Sport-Event-Promotion-Flyer-3.png
ORGANIZER;CN="Solutions For Independence":MAILTO:info@sicilnc.org
END:VEVENT
BEGIN:VEVENT
DTSTART;TZID=America/New_York:20241114T180000
DTEND;TZID=America/New_York:20241114T200000
DTSTAMP:20260422T061507
CREATED:20240924T193030Z
LAST-MODIFIED:20240924T193030Z
UID:3582-1731607200-1731614400@sicilnc.org
SUMMARY:Wheelchair Basketball at Hanes Hosiery Community Center
DESCRIPTION:Calling all Basketball Players!\nJoin the Triad Trackers Wheelchair Basketball Team\, Solutions For Independence & WS Recreation & Parks for Wheelchair Basketball!\nLearn basketball skills with the Triad Trackers Wheelchair Basketball Team while interacting with your peers with disabilities. Improve your basketball game while learning valuable life skills such as teamwork\, boosting your problem-solving skills\, and developing leadership skills.\nPractice will be every Thursdays  from 6 p.m. – 8 p.m.\nContact Chris Rivera at 743-264-0554 or email at chris@sicilnc.org for more information!
URL:https://sicilnc.org/event/wheelchair-basketball-at-hanes-hosiery-community-center-24/
LOCATION:Hanes Hosiery Community Center\, 501 Reynolds Blvd\, Winston-Salem\, North Carolina\, 27105\, United States
ATTACH;FMTTYPE=image/png:https://sicilnc.org/wp-content/uploads/2024/08/Red-Maroon-Basketball-Camp-Sport-Event-Promotion-Flyer-3.png
ORGANIZER;CN="Solutions For Independence":MAILTO:info@sicilnc.org
END:VEVENT
BEGIN:VEVENT
DTSTART;TZID=America/New_York:20241116T100000
DTEND;TZID=America/New_York:20241116T130000
DTSTAMP:20260422T061507
CREATED:20240903T183616Z
LAST-MODIFIED:20240903T183616Z
UID:3553-1731751200-1731762000@sicilnc.org
SUMMARY:Adaptive Sports EXPO- Greensboro
DESCRIPTION:Join Greensboro Recreation & Parks\, UNCG Dept of Community & Therapeutic Recreation\, and UNCG Student Affairs Recreation & Wellness as they present the 2024 Adaptive Sports EXPO in Greensboro. \nDiscover the limitless possibilities of adaptive sports at our upcoming Adaptive Sports EXPO\, a celebration of inclusion\, resilience and athletic excellence.  Whether you’re an experienced athlete or just beginning your journey\, this expo has something for everyone! \nAdaptive Rock Climbing • Adaptive Mountain Biking • Seated Volleyball\n• Goal Ball • Bocce Ball • Wheelchair Tennis • Wheelchair Basketball •Wheelchair Rugby And Adaptive sports & support resource vendors \n 
URL:https://sicilnc.org/event/adaptive-sports-expo-greensboro/
LOCATION:Leonard J. Kaplan Center for Wellness\, 1301 W. Gate City Blvd\, Greensboro\, NC\, 27403\, United States
CATEGORIES:Adaptive Sports,Assistive Technology
ATTACH;FMTTYPE=application/pdf:https://sicilnc.org/wp-content/uploads/2024/09/Adaptive-Sports-Expo-Flyer-2024.pdf
END:VEVENT
BEGIN:VEVENT
DTSTART;TZID=America/New_York:20241121T180000
DTEND;TZID=America/New_York:20241121T200000
DTSTAMP:20260422T061507
CREATED:20240924T193042Z
LAST-MODIFIED:20240924T193042Z
UID:3584-1732212000-1732219200@sicilnc.org
SUMMARY:Wheelchair Basketball at Hanes Hosiery Community Center
DESCRIPTION:Calling all Basketball Players!\nJoin the Triad Trackers Wheelchair Basketball Team\, Solutions For Independence & WS Recreation & Parks for Wheelchair Basketball!\nLearn basketball skills with the Triad Trackers Wheelchair Basketball Team while interacting with your peers with disabilities. Improve your basketball game while learning valuable life skills such as teamwork\, boosting your problem-solving skills\, and developing leadership skills.\nPractice will be every Thursdays  from 6 p.m. – 8 p.m.\nContact Chris Rivera at 743-264-0554 or email at chris@sicilnc.org for more information!
URL:https://sicilnc.org/event/wheelchair-basketball-at-hanes-hosiery-community-center-25/
LOCATION:Hanes Hosiery Community Center\, 501 Reynolds Blvd\, Winston-Salem\, North Carolina\, 27105\, United States
ATTACH;FMTTYPE=image/png:https://sicilnc.org/wp-content/uploads/2024/08/Red-Maroon-Basketball-Camp-Sport-Event-Promotion-Flyer-3.png
ORGANIZER;CN="Solutions For Independence":MAILTO:info@sicilnc.org
END:VEVENT
END:VCALENDAR