BEGIN:VCALENDAR
VERSION:2.0
PRODID:-//Solutions For Independence - ECPv6.15.20//NONSGML v1.0//EN
CALSCALE:GREGORIAN
METHOD:PUBLISH
X-ORIGINAL-URL:https://sicilnc.org
X-WR-CALDESC:Events for Solutions For Independence
REFRESH-INTERVAL;VALUE=DURATION:PT1H
X-Robots-Tag:noindex
X-PUBLISHED-TTL:PT1H
BEGIN:VTIMEZONE
TZID:America/New_York
BEGIN:DAYLIGHT
TZOFFSETFROM:-0500
TZOFFSETTO:-0400
TZNAME:EDT
DTSTART:20240310T070000
END:DAYLIGHT
BEGIN:STANDARD
TZOFFSETFROM:-0400
TZOFFSETTO:-0500
TZNAME:EST
DTSTART:20241103T060000
END:STANDARD
BEGIN:DAYLIGHT
TZOFFSETFROM:-0500
TZOFFSETTO:-0400
TZNAME:EDT
DTSTART:20250309T070000
END:DAYLIGHT
BEGIN:STANDARD
TZOFFSETFROM:-0400
TZOFFSETTO:-0500
TZNAME:EST
DTSTART:20251102T060000
END:STANDARD
BEGIN:DAYLIGHT
TZOFFSETFROM:-0500
TZOFFSETTO:-0400
TZNAME:EDT
DTSTART:20260308T070000
END:DAYLIGHT
BEGIN:STANDARD
TZOFFSETFROM:-0400
TZOFFSETTO:-0500
TZNAME:EST
DTSTART:20261101T060000
END:STANDARD
BEGIN:DAYLIGHT
TZOFFSETFROM:-0500
TZOFFSETTO:-0400
TZNAME:EDT
DTSTART:20270314T070000
END:DAYLIGHT
BEGIN:STANDARD
TZOFFSETFROM:-0400
TZOFFSETTO:-0500
TZNAME:EST
DTSTART:20271107T060000
END:STANDARD
END:VTIMEZONE
BEGIN:VEVENT
DTSTART;TZID=America/New_York:20251107T180000
DTEND;TZID=America/New_York:20251107T210000
DTSTAMP:20260424T102229
CREATED:20251015T135902Z
LAST-MODIFIED:20251015T135902Z
UID:3646-1762538400-1762549200@sicilnc.org
SUMMARY:Gather Without Limits
DESCRIPTION:We are excited to help spread the word about Gather Without Limits — a no cost\, inclusive community event open to everyone! \nCome out for a night of connection\, music\, games\, and pizza — a great opportunity to come together\, meet new people\, and enjoy a welcoming community space.\n\nScan the QR code on the flyer to register and learn more!
URL:https://sicilnc.org/event/gather-without-limits/
LOCATION:Fiddlin’ Fish\, 772 Trade St NW\, Winston-Salem\, NC\, 27101\, United States
ATTACH;FMTTYPE=image/jpeg:https://sicilnc.org/wp-content/uploads/2025/10/Gather-Without-Limits-Event-Flyer.jpg
END:VEVENT
BEGIN:VEVENT
DTSTART;TZID=America/New_York:20260328T100000
DTEND;TZID=America/New_York:20260328T140000
DTSTAMP:20260424T102229
CREATED:20251212T141647Z
LAST-MODIFIED:20251212T164535Z
UID:3651-1774692000-1774706400@sicilnc.org
SUMMARY:2026 Adaptive Sports & Recreation EXPO
DESCRIPTION:SAVE THE DATE!  \nJoin us for the 2026 Adaptive Sports & Recreation EXPO sponsored by Solutions for Independence! \nCome try out all of your favorite adaptive recreation and sports with our awesome vendors\, including adaptive climbing\, kayaking\, yoga\, hockey\, basketball\, fencing\, and more! \nVendors and a food truck will also be on-site so you can check out their resources and programs\, ask questions\, and enjoy good food! \nAll ages and ABILITIES are welcome!   \nRegister to attend Here: https://bit.ly/2026EXPO \nRegister to Volunteer Here: https://bit.ly/2026EXPOVolunteer
URL:https://sicilnc.org/event/2026-adaptive-sports-recreation-expo/
LOCATION:JDL Fast Track\, 2505 Empire Drive\, Winston Salem\, NC\, 27103\, United States
ATTACH;FMTTYPE=application/pdf:https://sicilnc.org/wp-content/uploads/2025/12/Adaptive-Sports-EXPO-2026-1.pdf
ORGANIZER;CN="Solutions For Independence":MAILTO:info@sicilnc.org
END:VEVENT
END:VCALENDAR